BEGIN:VCALENDAR
VERSION:2.0
PRODID:-//Healthier Human - ECPv6.15.16//NONSGML v1.0//EN
CALSCALE:GREGORIAN
METHOD:PUBLISH
X-WR-CALNAME:Healthier Human
X-ORIGINAL-URL:https://healthierhuman.fit
X-WR-CALDESC:Events for Healthier Human
REFRESH-INTERVAL;VALUE=DURATION:PT1H
X-Robots-Tag:noindex
X-PUBLISHED-TTL:PT1H
BEGIN:VTIMEZONE
TZID:America/Denver
BEGIN:DAYLIGHT
TZOFFSETFROM:-0700
TZOFFSETTO:-0600
TZNAME:MDT
DTSTART:20240310T090000
END:DAYLIGHT
BEGIN:STANDARD
TZOFFSETFROM:-0600
TZOFFSETTO:-0700
TZNAME:MST
DTSTART:20241103T080000
END:STANDARD
BEGIN:DAYLIGHT
TZOFFSETFROM:-0700
TZOFFSETTO:-0600
TZNAME:MDT
DTSTART:20250309T090000
END:DAYLIGHT
BEGIN:STANDARD
TZOFFSETFROM:-0600
TZOFFSETTO:-0700
TZNAME:MST
DTSTART:20251102T080000
END:STANDARD
BEGIN:DAYLIGHT
TZOFFSETFROM:-0700
TZOFFSETTO:-0600
TZNAME:MDT
DTSTART:20260308T090000
END:DAYLIGHT
BEGIN:STANDARD
TZOFFSETFROM:-0600
TZOFFSETTO:-0700
TZNAME:MST
DTSTART:20261101T080000
END:STANDARD
END:VTIMEZONE
BEGIN:VEVENT
DTSTART;TZID=America/Denver:20250909T160000
DTEND;TZID=America/Denver:20250909T173000
DTSTAMP:20260423T060551
CREATED:20250910T002311Z
LAST-MODIFIED:20250910T002618Z
UID:1382-1757433600-1757439000@healthierhuman.fit
SUMMARY:6-Week Adult DBT Course
DESCRIPTION:This structured 6-week program introduces adults to the core principles and skills of Dialectical Behavioral Therapy. Each week builds on the last\, blending education with practical application. Participants first expand their emotional vocabulary and fluency\, learning to recognize and name emotions with greater accuracy. From there\, they develop DBT skills in mindfulness\, distress tolerance\, emotion regulation\, and interpersonal effectiveness. By the end of the course\, participants gain practical tools to manage intense emotions\, improve communication\, and build lasting resilience for everyday life.
URL:https://healthierhuman.fit/event/6-week-adult-dbt-course/
LOCATION:2730 E. Swasont Way\, SLC\, UT 84117\, 2730 E. Swasont Way\, Holladay\, UT\, 84117\, United States
END:VEVENT
END:VCALENDAR